BEGIN:VCALENDAR
VERSION:2.0
PRODID:-//Wells County Indiana - ECPv6.15.20//NONSGML v1.0//EN
CALSCALE:GREGORIAN
METHOD:PUBLISH
X-ORIGINAL-URL:https://wellscounty.org
X-WR-CALDESC:Events for Wells County Indiana
REFRESH-INTERVAL;VALUE=DURATION:PT1H
X-Robots-Tag:noindex
X-PUBLISHED-TTL:PT1H
BEGIN:VTIMEZONE
TZID:America/Indiana/Indianapolis
BEGIN:DAYLIGHT
TZOFFSETFROM:-0500
TZOFFSETTO:-0400
TZNAME:EDT
DTSTART:20280312T070000
END:DAYLIGHT
BEGIN:STANDARD
TZOFFSETFROM:-0400
TZOFFSETTO:-0500
TZNAME:EST
DTSTART:20281105T060000
END:STANDARD
BEGIN:DAYLIGHT
TZOFFSETFROM:-0500
TZOFFSETTO:-0400
TZNAME:EDT
DTSTART:20290311T070000
END:DAYLIGHT
BEGIN:STANDARD
TZOFFSETFROM:-0400
TZOFFSETTO:-0500
TZNAME:EST
DTSTART:20291104T060000
END:STANDARD
BEGIN:DAYLIGHT
TZOFFSETFROM:-0500
TZOFFSETTO:-0400
TZNAME:EDT
DTSTART:20300310T070000
END:DAYLIGHT
BEGIN:STANDARD
TZOFFSETFROM:-0400
TZOFFSETTO:-0500
TZNAME:EST
DTSTART:20301103T060000
END:STANDARD
END:VTIMEZONE
BEGIN:VEVENT
DTSTART;TZID=America/Indiana/Indianapolis:20291203T170000
DTEND;TZID=America/Indiana/Indianapolis:20291203T180000
DTSTAMP:20260423T011359
CREATED:20250902T192616Z
LAST-MODIFIED:20250902T192643Z
UID:10000869-1891011600-1891015200@wellscounty.org
SUMMARY:Wells County Board of Commissioners Meeting
DESCRIPTION:
URL:https://wellscounty.org/event/wells-county-board-of-commissioners-meeting/2029-12-03/
LOCATION:Carnegie Annex Building\, 223 W Washington Street\, Bluffton\, IN\, 46714
END:VEVENT
BEGIN:VEVENT
DTSTART;TZID=America/Indiana/Indianapolis:20291206T090000
DTEND;TZID=America/Indiana/Indianapolis:20291206T110000
DTSTAMP:20260423T011359
CREATED:20150122T192642Z
LAST-MODIFIED:20240214T132905Z
UID:10000560-1891242000-1891249200@wellscounty.org
SUMMARY:Plat Committee Meeting
DESCRIPTION:1st monthly meeting of the Wells County Plat Committee \nAgenda
URL:https://wellscounty.org/event/plat-committee-meeting-2-2021-04-01-2021-06-03/2029-12-06/
LOCATION:Carnegie Annex Building\, 223 W Washington Street\, Bluffton\, IN\, 46714\, United States
GEO:40.7387292;-85.1730617
X-APPLE-STRUCTURED-LOCATION;VALUE=URI;X-ADDRESS=Carnegie Annex Building 223 W Washington Street Bluffton IN 46714 United States;X-APPLE-RADIUS=500;X-TITLE=223 W Washington Street:geo:-85.1730617,40.7387292
END:VEVENT
BEGIN:VEVENT
DTSTART;TZID=America/Indiana/Indianapolis:20291206T190000
DTEND;TZID=America/Indiana/Indianapolis:20291206T210000
DTSTAMP:20260423T011359
CREATED:20250502T151640Z
LAST-MODIFIED:20250502T152034Z
UID:10000674-1891278000-1891285200@wellscounty.org
SUMMARY:Area Plan Commission Meeting
DESCRIPTION:Regular scheduled meeting for the Area Plan Commission. \nAgenda
URL:https://wellscounty.org/event/area-plan-commission-meeting-2021-07-01-14/2029-12-06/
LOCATION:Carnegie Annex Building\, 223 W Washington Street\, Bluffton\, IN\, 46714\, United States
GEO:40.7387292;-85.1730617
X-APPLE-STRUCTURED-LOCATION;VALUE=URI;X-ADDRESS=Carnegie Annex Building 223 W Washington Street Bluffton IN 46714 United States;X-APPLE-RADIUS=500;X-TITLE=223 W Washington Street:geo:-85.1730617,40.7387292
END:VEVENT
BEGIN:VEVENT
DTSTART;TZID=America/Indiana/Indianapolis:20291217T170000
DTEND;TZID=America/Indiana/Indianapolis:20291217T180000
DTSTAMP:20260423T011359
CREATED:20250902T193141Z
LAST-MODIFIED:20250902T193141Z
UID:10000930-1892221200-1892224800@wellscounty.org
SUMMARY:Wells County Board of Commissioners Meeting
DESCRIPTION:
URL:https://wellscounty.org/event/wells-county-board-of-commissioners-meeting-2/2029-12-17/
LOCATION:Carnegie Annex Building\, 223 W Washington Street\, Bluffton\, IN\, 46714
END:VEVENT
BEGIN:VEVENT
DTSTART;TZID=America/Indiana/Indianapolis:20291220T090000
DTEND;TZID=America/Indiana/Indianapolis:20291220T110000
DTSTAMP:20260423T011359
CREATED:20240214T132708Z
LAST-MODIFIED:20240214T132708Z
UID:10000596-1892451600-1892458800@wellscounty.org
SUMMARY:Plat Committee Meeting
DESCRIPTION:2nd monthly meeting of the Wells County Plat Committee \nAgenda
URL:https://wellscounty.org/event/plat-committee-meeting/2029-12-20/
LOCATION:Carnegie Annex Building\, 223 W Washington Street\, Bluffton\, IN\, 46714
END:VEVENT
BEGIN:VEVENT
DTSTART;TZID=America/Indiana/Indianapolis:20291225T190000
DTEND;TZID=America/Indiana/Indianapolis:20291225T210000
DTSTAMP:20260423T011359
CREATED:20210518T124241Z
LAST-MODIFIED:20240311T175645Z
UID:10000565-1892919600-1892926800@wellscounty.org
SUMMARY:Board of Zoning Appeals
DESCRIPTION:Regularly scheduled Board of Zoning Appeals Meeting. \nAgenda
URL:https://wellscounty.org/event/board-of-zoning-appeals-2021-06-22/2029-12-25/
LOCATION:Carnegie Annex Building\, 223 W Washington Street\, Bluffton\, IN\, 46714\, United States
GEO:40.7387292;-85.1730617
X-APPLE-STRUCTURED-LOCATION;VALUE=URI;X-ADDRESS=Carnegie Annex Building 223 W Washington Street Bluffton IN 46714 United States;X-APPLE-RADIUS=500;X-TITLE=223 W Washington Street:geo:-85.1730617,40.7387292
END:VEVENT
END:VCALENDAR