BEGIN:VCALENDAR
VERSION:2.0
PRODID:-//Wells County Indiana - ECPv6.15.20//NONSGML v1.0//EN
CALSCALE:GREGORIAN
METHOD:PUBLISH
X-ORIGINAL-URL:https://wellscounty.org
X-WR-CALDESC:Events for Wells County Indiana
REFRESH-INTERVAL;VALUE=DURATION:PT1H
X-Robots-Tag:noindex
X-PUBLISHED-TTL:PT1H
BEGIN:VTIMEZONE
TZID:America/Indiana/Indianapolis
BEGIN:DAYLIGHT
TZOFFSETFROM:-0500
TZOFFSETTO:-0400
TZNAME:EDT
DTSTART:20240310T070000
END:DAYLIGHT
BEGIN:STANDARD
TZOFFSETFROM:-0400
TZOFFSETTO:-0500
TZNAME:EST
DTSTART:20241103T060000
END:STANDARD
BEGIN:DAYLIGHT
TZOFFSETFROM:-0500
TZOFFSETTO:-0400
TZNAME:EDT
DTSTART:20250309T070000
END:DAYLIGHT
BEGIN:STANDARD
TZOFFSETFROM:-0400
TZOFFSETTO:-0500
TZNAME:EST
DTSTART:20251102T060000
END:STANDARD
BEGIN:DAYLIGHT
TZOFFSETFROM:-0500
TZOFFSETTO:-0400
TZNAME:EDT
DTSTART:20260308T070000
END:DAYLIGHT
BEGIN:STANDARD
TZOFFSETFROM:-0400
TZOFFSETTO:-0500
TZNAME:EST
DTSTART:20261101T060000
END:STANDARD
END:VTIMEZONE
BEGIN:VEVENT
DTSTART;TZID=America/Indiana/Indianapolis:20250804T163000
DTEND;TZID=America/Indiana/Indianapolis:20250804T170000
DTSTAMP:20260421T144925
CREATED:20241230T161912Z
LAST-MODIFIED:20241230T161912Z
UID:10000580-1754325000-1754326800@wellscounty.org
SUMMARY:Drainage Board Meeting
DESCRIPTION:
URL:https://wellscounty.org/event/drainage-board-meeting-15/
LOCATION:Carnegie Annex Building\, 223 W Washington Street\, Bluffton\, IN\, 46714
END:VEVENT
BEGIN:VEVENT
DTSTART;TZID=America/Indiana/Indianapolis:20250807T090000
DTEND;TZID=America/Indiana/Indianapolis:20250807T110000
DTSTAMP:20260421T144925
CREATED:20150122T192642Z
LAST-MODIFIED:20240214T132905Z
UID:10000314-1754557200-1754564400@wellscounty.org
SUMMARY:Plat Committee Meeting
DESCRIPTION:1st monthly meeting of the Wells County Plat Committee \nAgenda
URL:https://wellscounty.org/event/plat-committee-meeting-2-2021-04-01-2021-06-03/2025-08-07/
LOCATION:Carnegie Annex Building\, 223 W Washington Street\, Bluffton\, IN\, 46714\, United States
GEO:40.7387292;-85.1730617
X-APPLE-STRUCTURED-LOCATION;VALUE=URI;X-ADDRESS=Carnegie Annex Building 223 W Washington Street Bluffton IN 46714 United States;X-APPLE-RADIUS=500;X-TITLE=223 W Washington Street:geo:-85.1730617,40.7387292
END:VEVENT
BEGIN:VEVENT
DTSTART;TZID=America/Indiana/Indianapolis:20250807T190000
DTEND;TZID=America/Indiana/Indianapolis:20250807T210000
DTSTAMP:20260421T144925
CREATED:20250716T164855Z
LAST-MODIFIED:20250716T165211Z
UID:10000622-1754593200-1754600400@wellscounty.org
SUMMARY:Area Plan Commission Meeting
DESCRIPTION:Regular scheduled meeting for the Area Plan Commission. \nAgenda
URL:https://wellscounty.org/event/area-plan-commission-meeting-2021-07-01-14-4/
LOCATION:Carnegie Annex Building\, 223 W Washington Street\, Bluffton\, IN\, 46714\, United States
GEO:40.7387292;-85.1730617
X-APPLE-STRUCTURED-LOCATION;VALUE=URI;X-ADDRESS=Carnegie Annex Building 223 W Washington Street Bluffton IN 46714 United States;X-APPLE-RADIUS=500;X-TITLE=223 W Washington Street:geo:-85.1730617,40.7387292
END:VEVENT
BEGIN:VEVENT
DTSTART;TZID=America/Indiana/Indianapolis:20250818T163000
DTEND;TZID=America/Indiana/Indianapolis:20250818T170000
DTSTAMP:20260421T144925
CREATED:20241230T161945Z
LAST-MODIFIED:20241230T161945Z
UID:10000581-1755534600-1755536400@wellscounty.org
SUMMARY:Drainage Board Meeting
DESCRIPTION:
URL:https://wellscounty.org/event/drainage-board-meeting-16/
LOCATION:Carnegie Annex Building\, 223 W Washington Street\, Bluffton\, IN\, 46714
END:VEVENT
BEGIN:VEVENT
DTSTART;TZID=America/Indiana/Indianapolis:20250821T090000
DTEND;TZID=America/Indiana/Indianapolis:20250821T110000
DTSTAMP:20260421T144925
CREATED:20240214T132708Z
LAST-MODIFIED:20240214T132708Z
UID:10000265-1755766800-1755774000@wellscounty.org
SUMMARY:Plat Committee Meeting
DESCRIPTION:2nd monthly meeting of the Wells County Plat Committee \nAgenda
URL:https://wellscounty.org/event/plat-committee-meeting/2025-08-21/
LOCATION:Carnegie Annex Building\, 223 W Washington Street\, Bluffton\, IN\, 46714
END:VEVENT
BEGIN:VEVENT
DTSTART;TZID=America/Indiana/Indianapolis:20250826T190000
DTEND;TZID=America/Indiana/Indianapolis:20250826T210000
DTSTAMP:20260421T144925
CREATED:20250729T154611Z
LAST-MODIFIED:20250812T173521Z
UID:10000428-1756234800-1756242000@wellscounty.org
SUMMARY:Canceled - Board of Zoning Appeals
DESCRIPTION:The regularly scheduled Board of Zoning Appeals Meeting has been canceled due to the lack of petitions. \nNo Agenda
URL:https://wellscounty.org/event/board-of-zoning-appeals-2021-06-22-4/
LOCATION:Carnegie Annex Building\, 223 W Washington Street\, Bluffton\, IN\, 46714\, United States
GEO:40.7387292;-85.1730617
X-APPLE-STRUCTURED-LOCATION;VALUE=URI;X-ADDRESS=Carnegie Annex Building 223 W Washington Street Bluffton IN 46714 United States;X-APPLE-RADIUS=500;X-TITLE=223 W Washington Street:geo:-85.1730617,40.7387292
END:VEVENT
END:VCALENDAR